BEGIN:VCALENDAR
VERSION:2.0
PRODID:-//Row Nova Scotia - ECPv6.15.20//NONSGML v1.0//EN
CALSCALE:GREGORIAN
METHOD:PUBLISH
X-ORIGINAL-URL:https://rowns.ca
X-WR-CALDESC:Events for Row Nova Scotia
REFRESH-INTERVAL;VALUE=DURATION:PT1H
X-Robots-Tag:noindex
X-PUBLISHED-TTL:PT1H
BEGIN:VTIMEZONE
TZID:America/Halifax
BEGIN:DAYLIGHT
TZOFFSETFROM:-0400
TZOFFSETTO:-0300
TZNAME:ADT
DTSTART:20230312T060000
END:DAYLIGHT
BEGIN:STANDARD
TZOFFSETFROM:-0300
TZOFFSETTO:-0400
TZNAME:AST
DTSTART:20231105T050000
END:STANDARD
BEGIN:DAYLIGHT
TZOFFSETFROM:-0400
TZOFFSETTO:-0300
TZNAME:ADT
DTSTART:20240310T060000
END:DAYLIGHT
BEGIN:STANDARD
TZOFFSETFROM:-0300
TZOFFSETTO:-0400
TZNAME:AST
DTSTART:20241103T050000
END:STANDARD
BEGIN:DAYLIGHT
TZOFFSETFROM:-0400
TZOFFSETTO:-0300
TZNAME:ADT
DTSTART:20250309T060000
END:DAYLIGHT
BEGIN:STANDARD
TZOFFSETFROM:-0300
TZOFFSETTO:-0400
TZNAME:AST
DTSTART:20251102T050000
END:STANDARD
END:VTIMEZONE
BEGIN:VEVENT
DTSTART;VALUE=DATE:20240713
DTEND;VALUE=DATE:20240715
DTSTAMP:20260421T065700
CREATED:20240514T154752Z
LAST-MODIFIED:20240514T170845Z
UID:4756-1720828800-1721001599@rowns.ca
SUMMARY:51st Annual Nova Scotia Sprints - Bud Myra Memorial Regatta
DESCRIPTION:The Nova Scotia Sprints Bud Myra Memorial Regatta is hosted annually by Row Nova Scotia. It is the largest rowing regatta in Nova Scotia taking place over 2 full days of racing on a fully buoyed 1000m course on Lake Banook in the heart of Dartmouth\, N.S. This regatta features events for all ages and skill levels ranging from Junior\, Under 23\, Senior\, Masters\, and Para rowing in boats ranging from singles to eights.\n\n\n\n\n\n\n\nThe Nova Scotia Sprints regatta is named in memorial of the late Bud Myra. Bud Myra is synonymous with the sport of rowing in Nova Scotia. Myra died in 1999 at 68\, leaving a void in Nova Scotia rowing that will likely never be filled. His passion made his presence a constant feature at Dartmouth’s Mic Mac and North Star Rowing Clubs for more than four decades. In the late 1950’s\, Myra won two harbour championships\, and in 1969\, he won silver with doubles partner Bob Sawler at the first ever Canada Summer Games (before the imposed age limit). Since then\, he has been coach\, mentor\, supporter and friend to countless young rowers\, and has been involved with every Summer Games team\, usually as boatman. Over the years\, Myra introduced hundreds of Dartmouth children to rowing\, perhaps his most tangible contribution. But his gift of offering words of inspiration and simple wisdom may have been his greatest talent. \n\nPlease visit the event page for more information. \nInterested in volunteering? Sign up here! 2024 Sprints Volunteer Sign-up
URL:https://rowns.ca/calendar/51st-annual-nova-scotia-sprints-bud-myra-memorial-regatta/
LOCATION:Lake Banook\, 20 Boathouse Lane\, Darmouth\, Nova Scotia\, Canada
ATTACH;FMTTYPE=image/png:https://rowns.ca/wp-content/uploads/2020/02/Sprints-Header.png
ORGANIZER;CN="Row Nova Scotia":MAILTO:rowing@rowns.ca
END:VEVENT
BEGIN:VEVENT
DTSTART;VALUE=DATE:20240719
DTEND;VALUE=DATE:20240722
DTSTAMP:20260421T065700
CREATED:20240514T173150Z
LAST-MODIFIED:20240626T142952Z
UID:4761-1721347200-1721606399@rowns.ca
SUMMARY:RCA National Beach Sprint Selection Trials
DESCRIPTION:Row Nova Scotia (RNS) is delighted to collaborate with Rowing Canada Aviron (RCA) to host\nthe 2024 RCA National Beach Sprint Selection Trial. In July\, athletes from all over Canada will\ncome together at Rissers Beach to compete for a place to represent Canada at the World\nRowing Beach Sprint Championships\, held September 13-15 in Genoa\, Italy. Row Nova Scotia\nis confident that this event will serve as a showcase for the stunning Nova Scotia beaches and\nprovide athletes with an authentic coastal racing experience. \nRow Nova Scotia would like to extend its best wishes to all the athletes and coaches and\nencourage everyone to explore our wonderful province. \nFor more information\, please visit the event page.
URL:https://rowns.ca/calendar/coastal-event/
LOCATION:Risser’s Beach\, 5366 Hwy 331\, Lunenburg County\, Nova Scotia\, B4V 6P2\, Canada
ATTACH;FMTTYPE=image/jpeg:https://rowns.ca/wp-content/uploads/2024/05/IMG_3773.jpg
ORGANIZER;CN="Row Nova Scotia":MAILTO:rowing@rowns.ca
END:VEVENT
END:VCALENDAR