BEGIN:VCALENDAR
VERSION:2.0
PRODID:-//Row Nova Scotia - ECPv6.15.20//NONSGML v1.0//EN
CALSCALE:GREGORIAN
METHOD:PUBLISH
X-ORIGINAL-URL:https://rowns.ca
X-WR-CALDESC:Events for Row Nova Scotia
REFRESH-INTERVAL;VALUE=DURATION:PT1H
X-Robots-Tag:noindex
X-PUBLISHED-TTL:PT1H
BEGIN:VTIMEZONE
TZID:America/Halifax
BEGIN:DAYLIGHT
TZOFFSETFROM:-0400
TZOFFSETTO:-0300
TZNAME:ADT
DTSTART:20230312T060000
END:DAYLIGHT
BEGIN:STANDARD
TZOFFSETFROM:-0300
TZOFFSETTO:-0400
TZNAME:AST
DTSTART:20231105T050000
END:STANDARD
BEGIN:DAYLIGHT
TZOFFSETFROM:-0400
TZOFFSETTO:-0300
TZNAME:ADT
DTSTART:20240310T060000
END:DAYLIGHT
BEGIN:STANDARD
TZOFFSETFROM:-0300
TZOFFSETTO:-0400
TZNAME:AST
DTSTART:20241103T050000
END:STANDARD
BEGIN:DAYLIGHT
TZOFFSETFROM:-0400
TZOFFSETTO:-0300
TZNAME:ADT
DTSTART:20250309T060000
END:DAYLIGHT
BEGIN:STANDARD
TZOFFSETFROM:-0300
TZOFFSETTO:-0400
TZNAME:AST
DTSTART:20251102T050000
END:STANDARD
END:VTIMEZONE
BEGIN:VEVENT
DTSTART;TZID=America/Halifax:20240504T120000
DTEND;TZID=America/Halifax:20240504T210000
DTSTAMP:20260421T101429
CREATED:20240419T152441Z
LAST-MODIFIED:20240419T160001Z
UID:4745-1714824000-1714856400@rowns.ca
SUMMARY:Learn to Row Coach Workshop
DESCRIPTION:Row NS is hosting a Learn to Row (LTR) Coach workshop on Saturday\, May 4th on zoom. \nThe course schedule is as follows: \n\n12:00pm – 5:00pm – Coursework via zoom\n5:00pm – 6:00pm – Break\n6:00pm – 9:00pm – Coursework via zoom\n\nThis workshop is the entry into the RCA coach development pathway and is geared toward people interested in coaching learn to row lessons at clubs. The workshop content is intended to provide the coach with knowledge\, skills and abilities to instruct learn to row sessions with beginners. \nThe cost of the LTR Coach Workshop is $50 per person\, paid by e-transfer to the email rowing@rowns.ca prior to the start of the workshop using the password “rowing”. All registration can be completed using your NCCP and The Locker. If you do not have an NCCP number you must create an account to register. \nAll participants in the LTR Coach Workshop must have the following prior to the workshop: \n\nPleasure Craft Operator’s Card (PCOC)\nMaking Ethical Decisions module – you can register for this course through Coaching Nova Scotia\nNCCP Coach Initiation in Sport – an online module developed by the CAC and available through the Locker\nRCA Rowing Essentials – An online module that is available through The Locker\n\nRegistration for this event can be completed through the Locker here: Learn to Row Coach Workshop Registration
URL:https://rowns.ca/calendar/learn-to-row-coach-workshop-2/
LOCATION:Ontario
CATEGORIES:Coach Development
ORGANIZER;CN="Row Nova Scotia":MAILTO:rowing@rowns.ca
END:VEVENT
BEGIN:VEVENT
DTSTART;VALUE=DATE:20240525
DTEND;VALUE=DATE:20240526
DTSTAMP:20260421T101429
CREATED:20240419T142628Z
LAST-MODIFIED:20240514T141345Z
UID:4741-1716595200-1716681599@rowns.ca
SUMMARY:Ice Breaker Regatta
DESCRIPTION:The Ice Breaker Regatta is an annual regatta hosted by Row Nova Scotia on Lake Banook and Lake Mic Mac in Dartmouth\, Nova Scotia. This regatta is a head race format that has athletes complete a 4.3km loop of the two lakes. This regatta aligns with the Long Term Athlete Development (LTAD) model outlined by Rowing Canada Aviron that has athletes competing at long distances early in the season. The Ice Breaker is open to Novice\, Junior\, Under 23\, Senior\, Masters and Para athletes. \nIf you are interested in volunteering for this regatta\, sign up here: Volunteer Sign-up – Ice Breaker Regatta \nPlease visit the event page for more information.
URL:https://rowns.ca/calendar/ice-breaker-regatta-2/
LOCATION:Lake Banook\, 20 Boathouse Lane\, Darmouth\, Nova Scotia\, Canada
CATEGORIES:Regatta
ORGANIZER;CN="Row Nova Scotia":MAILTO:rowing@rowns.ca
END:VEVENT
END:VCALENDAR