BEGIN:VCALENDAR
VERSION:2.0
PRODID:-//Row Nova Scotia - ECPv6.15.20//NONSGML v1.0//EN
CALSCALE:GREGORIAN
METHOD:PUBLISH
X-ORIGINAL-URL:https://rowns.ca
X-WR-CALDESC:Events for Row Nova Scotia
REFRESH-INTERVAL;VALUE=DURATION:PT1H
X-Robots-Tag:noindex
X-PUBLISHED-TTL:PT1H
BEGIN:VTIMEZONE
TZID:America/Halifax
BEGIN:DAYLIGHT
TZOFFSETFROM:-0400
TZOFFSETTO:-0300
TZNAME:ADT
DTSTART:20180311T060000
END:DAYLIGHT
BEGIN:STANDARD
TZOFFSETFROM:-0300
TZOFFSETTO:-0400
TZNAME:AST
DTSTART:20181104T050000
END:STANDARD
BEGIN:DAYLIGHT
TZOFFSETFROM:-0400
TZOFFSETTO:-0300
TZNAME:ADT
DTSTART:20190310T060000
END:DAYLIGHT
BEGIN:STANDARD
TZOFFSETFROM:-0300
TZOFFSETTO:-0400
TZNAME:AST
DTSTART:20191103T050000
END:STANDARD
BEGIN:DAYLIGHT
TZOFFSETFROM:-0400
TZOFFSETTO:-0300
TZNAME:ADT
DTSTART:20200308T060000
END:DAYLIGHT
BEGIN:STANDARD
TZOFFSETFROM:-0300
TZOFFSETTO:-0400
TZNAME:AST
DTSTART:20201101T050000
END:STANDARD
END:VTIMEZONE
BEGIN:VEVENT
DTSTART;TZID=America/Halifax:20190512T090000
DTEND;TZID=America/Halifax:20190512T170000
DTSTAMP:20260425T230520
CREATED:20190506T145232Z
LAST-MODIFIED:20190506T145242Z
UID:2734-1557651600-1557680400@rowns.ca
SUMMARY:Emergency First Aid and CPR/AED Training
DESCRIPTION:
URL:https://rowns.ca/calendar/emergency-first-aid-and-cpr-aed-training-2/
LOCATION:Sport Nova Scotia\, 5516 Spring Garden Road\, Halifax\, Nova Scotia\, B3J 1G6\, Canada
CATEGORIES:Coach Development,Umpire Development
ORGANIZER;CN="Row Nova Scotia":MAILTO:rowing@rowns.ca
END:VEVENT
END:VCALENDAR